BEGIN:VCALENDAR
VERSION:2.0
PRODID:icalendar-ruby
CALSCALE:GREGORIAN
METHOD:PUBLISH
BEGIN:VEVENT
DTSTAMP:20260424T105100Z
UID:10-345135@christchapelhamlin.com
DTSTART:20260623T140000Z
DTEND:20260623T150000Z
CLASS:PUBLIC
CREATED:20260423T230631
DESCRIPTION:
LAST-MODIFIED:20260423T230631
LOCATION:Christ Chapel Hamlin
SUMMARY:Men's Bible Study
URL;VALUE=URI:https://christchapelhamlin.com/events/mens-bible-study/2026-0
 6-23
ATTACH;FILENAME=th-1088924448.jpg;FMTTYPE=image/jpeg:https://dq5pwpg1q8ru0.
 cloudfront.net/2025/03/31/00/04/30/1b8012eb-ff66-451b-8b47-2bc37c5b42c3/th
 -1088924448.jpg
END:VEVENT
END:VCALENDAR
