BEGIN:VCALENDAR
VERSION:2.0
PRODID:icalendar-ruby
CALSCALE:GREGORIAN
METHOD:PUBLISH
BEGIN:VEVENT
DTSTAMP:20260423T231117Z
UID:8-344526@christchapelhamlin.com
DTSTART:20261025T140000Z
DTEND:20261025T150000Z
CLASS:PUBLIC
CREATED:20260423T171845
DESCRIPTION:
LAST-MODIFIED:20260423T171845
LOCATION:
SUMMARY:Sunday Worship
URL;VALUE=URI:https://christchapelhamlin.com/events/sunday-worship/2026-10-
 25
ATTACH;FILENAME=mat1020a.jpg;FMTTYPE=image/jpeg:https://dq5pwpg1q8ru0.cloud
 front.net/2025/04/02/02/19/48/5130236b-d7a3-4a46-ac52-4f6c3f5654cd/mat1020
 a.jpg
END:VEVENT
END:VCALENDAR
