BEGIN:VCALENDAR
VERSION:2.0
PRODID:icalendar-ruby
CALSCALE:GREGORIAN
METHOD:PUBLISH
BEGIN:VEVENT
DTSTAMP:20260423T221005Z
UID:9-344597@christchapelhamlin.com
DTSTART:20261028T170000Z
DTEND:20261028T180000Z
CLASS:PUBLIC
CREATED:20260423T171845
DESCRIPTION:
LAST-MODIFIED:20260423T171845
LOCATION:Christ Chapel Hamlin
SUMMARY:Women's Bible study
URL;VALUE=URI:https://christchapelhamlin.com/events/womens-bible-study/2026
 -10-28
ATTACH;FILENAME=th-3611050334.jpg;FMTTYPE=image/jpeg:https://dq5pwpg1q8ru0.
 cloudfront.net/2025/03/30/23/54/25/0e904e47-3cad-426f-8172-4e0a925ce7a6/th
 -3611050334.jpg
END:VEVENT
END:VCALENDAR
